BEGIN:VCALENDAR
VERSION:2.0
PRODID:-//Cow Creek Band of Umpqua Tribe of Indians - ECPv6.10.1//NONSGML v1.0//EN
CALSCALE:GREGORIAN
METHOD:PUBLISH
X-ORIGINAL-URL:https://www.cowcreek-nsn.gov
X-WR-CALDESC:Events for Cow Creek Band of Umpqua Tribe of Indians
REFRESH-INTERVAL;VALUE=DURATION:PT1H
X-Robots-Tag:noindex
X-PUBLISHED-TTL:PT1H
BEGIN:VTIMEZONE
TZID:America/Los_Angeles
BEGIN:DAYLIGHT
TZOFFSETFROM:-0800
TZOFFSETTO:-0700
TZNAME:PDT
DTSTART:20230312T100000
END:DAYLIGHT
BEGIN:STANDARD
TZOFFSETFROM:-0700
TZOFFSETTO:-0800
TZNAME:PST
DTSTART:20231105T090000
END:STANDARD
END:VTIMEZONE
BEGIN:VEVENT
DTSTART;TZID=America/Los_Angeles:20230303T100000
DTEND;TZID=America/Los_Angeles:20230303T143000
DTSTAMP:20260422T023552
CREATED:20230124T225435Z
LAST-MODIFIED:20230124T225435Z
UID:10885-1677837600-1677853800@www.cowcreek-nsn.gov
SUMMARY:Kids in the Woods 2023
DESCRIPTION:Cow Creek Tribal youth from Myrtle Creek and Tri City Elementary schools in grades K-5 will be coming\, and we are excited to also extend this opportunity to our Tribal citizens and to Government Office employees with child(ren) in grades K-5. \nWe will plant trees at one of our Timber Sales\, learn\, enjoy games\, and watch drones in flight! \nFor more information\, or if you would like to join us\, please contact Leona Sanders at (541) 492-5231 or Leona.Sanders@cowcreek-nsn.gov. Space is limited\, so please RSVP no later than February 15!
URL:https://www.cowcreek-nsn.gov/event/kids-in-the-woods-2023/
CATEGORIES:Forestry
ATTACH;FMTTYPE=image/png:https://www.cowcreek-nsn.gov/wordpress/wp-content/uploads/2023/01/kids-in-the-woods-2023-2.png
END:VEVENT
END:VCALENDAR