BEGIN:VCALENDAR
VERSION:2.0
PRODID:-//Cow Creek Band of Umpqua Tribe of Indians - ECPv6.10.1//NONSGML v1.0//EN
CALSCALE:GREGORIAN
METHOD:PUBLISH
X-WR-CALNAME:Cow Creek Band of Umpqua Tribe of Indians
X-ORIGINAL-URL:https://www.cowcreek-nsn.gov
X-WR-CALDESC:Events for Cow Creek Band of Umpqua Tribe of Indians
REFRESH-INTERVAL;VALUE=DURATION:PT1H
X-Robots-Tag:noindex
X-PUBLISHED-TTL:PT1H
BEGIN:VTIMEZONE
TZID:America/Los_Angeles
BEGIN:DAYLIGHT
TZOFFSETFROM:-0800
TZOFFSETTO:-0700
TZNAME:PDT
DTSTART:20220313T100000
END:DAYLIGHT
BEGIN:STANDARD
TZOFFSETFROM:-0700
TZOFFSETTO:-0800
TZNAME:PST
DTSTART:20221106T090000
END:STANDARD
BEGIN:DAYLIGHT
TZOFFSETFROM:-0800
TZOFFSETTO:-0700
TZNAME:PDT
DTSTART:20230312T100000
END:DAYLIGHT
BEGIN:STANDARD
TZOFFSETFROM:-0700
TZOFFSETTO:-0800
TZNAME:PST
DTSTART:20231105T090000
END:STANDARD
END:VTIMEZONE
BEGIN:VEVENT
DTSTART;TZID=America/Los_Angeles:20220512T140000
DTEND;TZID=America/Los_Angeles:20220512T160000
DTSTAMP:20260421T085658
CREATED:20220211T193945Z
LAST-MODIFIED:20220211T193945Z
UID:8849-1652364000-1652371200@www.cowcreek-nsn.gov
SUMMARY:Takelma Language and Culture Class: Topic TBD
DESCRIPTION:Check back to learn what the Takelma Language Team and the Cow Creek Cultural Resources Team will be teaching during their classes on May 12 and May 26. Email info-education@cowcreek-nsn.gov to get the Zoom link. \nLearn more about Takelma: https://www.cowcreekeducation.com/takelma-language/ \nLearn more about the Cultural Resources program: https://www.cowcreek-nsn.gov/wordpress/tribal/culture/
URL:https://www.cowcreek-nsn.gov/event/takelma-language-and-culture-class-topic-tbd/
LOCATION:RSVP for Zoom Link
CATEGORIES:Cultural Resources,Education Department
ATTACH;FMTTYPE=image/png:https://www.cowcreek-nsn.gov/wordpress/wp-content/uploads/2022/02/may-classes-2.11.221.png
ORGANIZER;CN="Cow Creek Education":MAILTO:info-education@cowcreek-nsn.gov
END:VEVENT
BEGIN:VEVENT
DTSTART;TZID=America/Los_Angeles:20220526T140000
DTEND;TZID=America/Los_Angeles:20220526T160000
DTSTAMP:20260421T085658
CREATED:20220211T194132Z
LAST-MODIFIED:20220211T194132Z
UID:8853-1653573600-1653580800@www.cowcreek-nsn.gov
SUMMARY:Takelma Language and Culture Class: Topic TBD
DESCRIPTION:Part 2 of the May lesson from the Takelma Language Team and Cultural Resources Team \nCheck back to learn what the Takelma Language Team and the Cow Creek Cultural Resources Team will be teaching during their classes on May 12 and May 26. Email info-education@cowcreek-nsn.gov to get the Zoom link. \nLearn more about Takelma: https://www.cowcreekeducation.com/takelma-language/ \nLearn more about the Cultural Resources program: https://www.cowcreek-nsn.gov/wordpress/tribal/culture/
URL:https://www.cowcreek-nsn.gov/event/takelma-language-and-culture-class-topic-tbd-2/
LOCATION:RSVP for Zoom Link
CATEGORIES:Cultural Resources,Education Department
ATTACH;FMTTYPE=image/png:https://www.cowcreek-nsn.gov/wordpress/wp-content/uploads/2022/02/may-classes-2.11.221.png
END:VEVENT
BEGIN:VEVENT
DTSTART;VALUE=DATE:20220617
DTEND;VALUE=DATE:20220618
DTSTAMP:20260421T085658
CREATED:20220304T200326Z
LAST-MODIFIED:20220606T162244Z
UID:9075-1655424000-1655510399@www.cowcreek-nsn.gov
SUMMARY:Culture Camp 2022: Day 1
DESCRIPTION:Join the team members of Cow Creek Tribal Government for our annual Culture Camp\, an opportunity for Tribal members to learn more about Cow Creek culture and immerse themselves in activities that strengthen their relationship with Cow Creek heritage. \nActivities include: \nJute basket\nDice game\nJuncus basket\nShinny games\nTalking sticks and circle\nTakelma language\nArchery\nFlint knapping\nStone knife making\nStorytelling\nPit oven cooking\nPow Wow drum stick making\nPine nut blackening \nPlus\, learn more from our team in Tribal Police\, Youth Education and more! \nLocation: Bare Park\, 5719 Dole Road in Myrtle Creek\, OR. \nDates: June 17 & June 18\, 2022\, 9AM-5PM \nRSVP by emailing info-culturalresources@cowcreek-nsn.gov
URL:https://www.cowcreek-nsn.gov/event/culture-camp-day-1/
CATEGORIES:Cultural Resources,Education Department,Youth Activities Committee
ATTACH;FMTTYPE=image/png:https://www.cowcreek-nsn.gov/wordpress/wp-content/uploads/2022/03/culture-camp-archery.png
ORGANIZER;CN="Cultural Resources Program":MAILTO:info-culturalresources@cowcreek-nsn.gov
END:VEVENT
BEGIN:VEVENT
DTSTART;VALUE=DATE:20220618
DTEND;VALUE=DATE:20220619
DTSTAMP:20260421T085658
CREATED:20220304T200615Z
LAST-MODIFIED:20220606T162321Z
UID:9079-1655510400-1655596799@www.cowcreek-nsn.gov
SUMMARY:Culture Camp 2022: Day 2
DESCRIPTION:Join the team members of Cow Creek Tribal Government for our annual Culture Camp\, an opportunity for Tribal members to learn more about Cow Creek culture and immerse themselves in activities that strengthen their relationship with Cow Creek heritage. \nActivities include: \nJute basket\nDice game\nJuncus basket\nShinny games\nTalking sticks and circle\nTakelma language\nArchery\nFlint knapping\nStone knife making\nStorytelling\nPit oven cooking\nPow Wow drum stick making\nPine nut blackening \nPlus\, learn more from our team in Tribal Police\, Youth Education and more! \nLocation: Bare Park\, 5719 Dole Road in Myrtle Creek\, OR. \nDates: June 17 & June 18\, 2022\, 9AM-5PM \nRSVP by emailing info-culturalresources@cowcreek-nsn.gov
URL:https://www.cowcreek-nsn.gov/event/culture-camp-2022-day-2/
CATEGORIES:Cultural Resources,Education Department,Youth Activities Committee
ATTACH;FMTTYPE=image/png:https://www.cowcreek-nsn.gov/wordpress/wp-content/uploads/2022/03/culture-camp-career-center-booth.png
ORGANIZER;CN="Cultural Resources Program":MAILTO:info-culturalresources@cowcreek-nsn.gov
END:VEVENT
BEGIN:VEVENT
DTSTART;TZID=America/Los_Angeles:20220806T083000
DTEND;TZID=America/Los_Angeles:20220806T163000
DTSTAMP:20260421T085658
CREATED:20220701T192640Z
LAST-MODIFIED:20220718T165705Z
UID:10012-1659774600-1659803400@www.cowcreek-nsn.gov
SUMMARY:Bear Grass Gathering
DESCRIPTION:[mk_image src=”https://www.cowcreek-nsn.gov/wordpress/wp-content/uploads/2022/07/beargrass-gathering-flyer-8.6.22.jpg” image_width=”900″ image_height=”700″ crop=”true” lightbox=”false” frame_style=”simple” target=”_self” caption_location=”inside-image” align=”left” margin_bottom=”10″]
URL:https://www.cowcreek-nsn.gov/event/bear-grass-gathering/
CATEGORIES:Cultural Resources
ATTACH;FMTTYPE=image/jpeg:https://www.cowcreek-nsn.gov/wordpress/wp-content/uploads/2022/07/beargrass-gathering-flyer-8.6.22.jpg
ORGANIZER;CN="Cultural Resources Program":MAILTO:info-culturalresources@cowcreek-nsn.gov
END:VEVENT
BEGIN:VEVENT
DTSTART;TZID=America/Los_Angeles:20220820T110000
DTEND;TZID=America/Los_Angeles:20220820T150000
DTSTAMP:20260421T085658
CREATED:20220805T161455Z
LAST-MODIFIED:20220805T183413Z
UID:10236-1660993200-1661007600@www.cowcreek-nsn.gov
SUMMARY:Native American Culture Day at Fort Umpqua
DESCRIPTION:The Cow Creek Cultural Resources Team will be participating in Native American Culture Day at Fort Umpqua on Saturday\, August 20 at Fort Umpqua in Elkton\, OR. \nhttps://elktonbutterflies.com/events-calendar/ \nThis event is free to participate and geared to engage kids and teens. However\, all community members who want to learn more about cultural traditions of the Cow Creek Umpqua Tribe are welcome to attend. \nActivities will center around beading\, drumming\, Takelma language\, and traditional Native games. \nThe event is from 11AM-3PM at the Elkton Community Education Center at Fort Umpqua\, located at 15850 State Highway 38 W.\, Elkton\, OR. 97436. \n 
URL:https://www.cowcreek-nsn.gov/event/native-american-culture-day-at-fort-umpqua/
LOCATION:Elkton Community Education Center\, 15850 State Highway 38 W\, Elkton\, OR\, 97436\, United States
CATEGORIES:Cultural Resources
ORGANIZER;CN="Cultural Resources Program":MAILTO:info-culturalresources@cowcreek-nsn.gov
END:VEVENT
BEGIN:VEVENT
DTSTART;TZID=America/Los_Angeles:20220827T100000
DTEND;TZID=America/Los_Angeles:20220827T160000
DTSTAMP:20260421T085658
CREATED:20220701T193558Z
LAST-MODIFIED:20220712T204500Z
UID:10018-1661594400-1661616000@www.cowcreek-nsn.gov
SUMMARY:Huckleberry Gathering
DESCRIPTION:Meet at 8 AM at Seven Feathers Casino Resort parking lot if you want to join the convoy up to the patch\, or meet at the patch at 10 AM. \nSaturday\, August 27\, 2022 \nHuckleberry Patch along the Rogue Umpqua Divide \n[mk_image src=”https://www.cowcreek-nsn.gov/wordpress/wp-content/uploads/2015/01/Huckleberry-Patch-Map-e1422513639959.jpg” image_width=”800″ image_height=”650″ crop=”true” lightbox=”false” frame_style=”simple” target=”_self” caption_location=”inside-image” align=”left” margin_bottom=”10″]
URL:https://www.cowcreek-nsn.gov/event/huckleberry-gathering/
CATEGORIES:Cultural Resources
ATTACH;FMTTYPE=image/png:https://www.cowcreek-nsn.gov/wordpress/wp-content/uploads/2022/07/huckleberry-gathering-flyer-2022.png
ORGANIZER;CN="Cultural Resources Program":MAILTO:info-culturalresources@cowcreek-nsn.gov
END:VEVENT
BEGIN:VEVENT
DTSTART;TZID=America/Los_Angeles:20221015T100000
DTEND;TZID=America/Los_Angeles:20221015T140000
DTSTAMP:20260421T085658
CREATED:20220919T221208Z
LAST-MODIFIED:20220919T221208Z
UID:10425-1665828000-1665842400@www.cowcreek-nsn.gov
SUMMARY:Acorn Gathering
DESCRIPTION:Join the Cow Creek Umpqua Cultural Resources Team on Saturday\, October 15\, 2022 for acorn gathering at Ford’s Pond in Sutherlin. \nSack lunches will be provided for those who RSVP. \nEmail info-culturalresources@cowcreek-nsn.gov to RSVP\, or call Ben Steward at 1-800-929-8229 ext. 5236.
URL:https://www.cowcreek-nsn.gov/event/acorn-gathering/
CATEGORIES:Cultural Resources
ATTACH;FMTTYPE=image/png:https://www.cowcreek-nsn.gov/wordpress/wp-content/uploads/2022/09/acorn-gathering-flyer-20221.png
ORGANIZER;CN="Cultural Resources Program":MAILTO:info-culturalresources@cowcreek-nsn.gov
END:VEVENT
BEGIN:VEVENT
DTSTART;TZID=America/Los_Angeles:20230211T100000
DTEND;TZID=America/Los_Angeles:20230211T140000
DTSTAMP:20260421T085658
CREATED:20230124T222829Z
LAST-MODIFIED:20230124T223048Z
UID:10858-1676109600-1676124000@www.cowcreek-nsn.gov
SUMMARY:Mini Cedar Basket Class
DESCRIPTION:RSVP to info-culturalresources@cowcreek-nsn.gov or call (541) 677-5575 and ask for Culture.
URL:https://www.cowcreek-nsn.gov/event/mini-cedar-basket-class/
LOCATION:Tribal Government Offices\, 2371 NE Stephens St Suite 100\, Roseburg\, OR\, 97470\, United States
CATEGORIES:Cultural Resources
ATTACH;FMTTYPE=image/png:https://www.cowcreek-nsn.gov/wordpress/wp-content/uploads/2023/01/february-mini-basket.png
ORGANIZER;CN="Cultural Resources Program":MAILTO:info-culturalresources@cowcreek-nsn.gov
END:VEVENT
BEGIN:VEVENT
DTSTART;TZID=America/Los_Angeles:20230214T170000
DTEND;TZID=America/Los_Angeles:20230214T190000
DTSTAMP:20260421T085658
CREATED:20230124T223054Z
LAST-MODIFIED:20230124T223054Z
UID:10863-1676394000-1676401200@www.cowcreek-nsn.gov
SUMMARY:Bone Awl and Needles Class
DESCRIPTION:RSVP to info-culturalresources@cowcreek-nsn.gov or call (541) 677-5575 and ask for Culture.
URL:https://www.cowcreek-nsn.gov/event/bone-awl-and-needles-class/
LOCATION:Tribal Government Offices\, 2371 NE Stephens St Suite 100\, Roseburg\, OR\, 97470\, United States
CATEGORIES:Cultural Resources
ATTACH;FMTTYPE=image/png:https://www.cowcreek-nsn.gov/wordpress/wp-content/uploads/2023/01/2.png
ORGANIZER;CN="Cultural Resources Program":MAILTO:info-culturalresources@cowcreek-nsn.gov
END:VEVENT
BEGIN:VEVENT
DTSTART;TZID=America/Los_Angeles:20230221T170000
DTEND;TZID=America/Los_Angeles:20230221T190000
DTSTAMP:20260421T085658
CREATED:20230124T223235Z
LAST-MODIFIED:20230124T223235Z
UID:10867-1676998800-1677006000@www.cowcreek-nsn.gov
SUMMARY:Leather Bags\, Smudge Kits\, and Traditional Dice Class
DESCRIPTION:RSVP to info-culturalresources@cowcreek-nsn.gov or call (541) 677-5575 and ask for Culture.
URL:https://www.cowcreek-nsn.gov/event/leather-bags-class/
CATEGORIES:Cultural Resources
ATTACH;FMTTYPE=image/png:https://www.cowcreek-nsn.gov/wordpress/wp-content/uploads/2023/01/february-leather-class.png
ORGANIZER;CN="Cultural Resources Program":MAILTO:info-culturalresources@cowcreek-nsn.gov
END:VEVENT
BEGIN:VEVENT
DTSTART;TZID=America/Los_Angeles:20230509T170000
DTEND;TZID=America/Los_Angeles:20230509T190000
DTSTAMP:20260421T085658
CREATED:20230502T222432Z
LAST-MODIFIED:20230502T222432Z
UID:11468-1683651600-1683658800@www.cowcreek-nsn.gov
SUMMARY:Sinew / Pine Pitch Glue Making Class
DESCRIPTION:
URL:https://www.cowcreek-nsn.gov/event/sinew-pine-pitch-glue-making-class/
LOCATION:Tribal Government Offices\, 2371 NE Stephens St Suite 100\, Roseburg\, OR\, 97470\, United States
CATEGORIES:Cultural Resources
ATTACH;FMTTYPE=image/png:https://www.cowcreek-nsn.gov/wordpress/wp-content/uploads/2023/05/may-culture-events-page-1.png
ORGANIZER;CN="Cultural Resources Program":MAILTO:info-culturalresources@cowcreek-nsn.gov
END:VEVENT
BEGIN:VEVENT
DTSTART;TZID=America/Los_Angeles:20230523T170000
DTEND;TZID=America/Los_Angeles:20230523T190000
DTSTAMP:20260421T085658
CREATED:20230502T222552Z
LAST-MODIFIED:20230502T222552Z
UID:11472-1684861200-1684868400@www.cowcreek-nsn.gov
SUMMARY:Fishing Tool Kit Making Class
DESCRIPTION:
URL:https://www.cowcreek-nsn.gov/event/fishing-tool-kit-making-class/
LOCATION:Tribal Government Offices\, 2371 NE Stephens St Suite 100\, Roseburg\, OR\, 97470\, United States
CATEGORIES:Cultural Resources
ATTACH;FMTTYPE=image/png:https://www.cowcreek-nsn.gov/wordpress/wp-content/uploads/2023/05/may-culture-events-page.png
ORGANIZER;CN="Cultural Resources Program":MAILTO:info-culturalresources@cowcreek-nsn.gov
END:VEVENT
BEGIN:VEVENT
DTSTART;TZID=America/Los_Angeles:20230603T100000
DTEND;TZID=America/Los_Angeles:20230603T140000
DTSTAMP:20260421T085658
CREATED:20230502T223803Z
LAST-MODIFIED:20230502T223803Z
UID:11483-1685786400-1685800800@www.cowcreek-nsn.gov
SUMMARY:Chief Miwaleta Day Celebration
DESCRIPTION:
URL:https://www.cowcreek-nsn.gov/event/chief-miwaleta-day-celebration/
LOCATION:Chief Miwaleta County Park and Campground\, 8399 Upper Cow Creek RD\, Azalea\, OR\, 97410\, United States
CATEGORIES:Cultural Resources
ATTACH;FMTTYPE=image/png:https://www.cowcreek-nsn.gov/wordpress/wp-content/uploads/2023/05/chief-miwaleta-day.png
ORGANIZER;CN="Cultural Resources Program":MAILTO:info-culturalresources@cowcreek-nsn.gov
END:VEVENT
BEGIN:VEVENT
DTSTART;VALUE=DATE:20230616
DTEND;VALUE=DATE:20230618
DTSTAMP:20260421T085658
CREATED:20230502T222051Z
LAST-MODIFIED:20230502T222051Z
UID:11465-1686873600-1687046399@www.cowcreek-nsn.gov
SUMMARY:Culture Camp 2023
DESCRIPTION:
URL:https://www.cowcreek-nsn.gov/event/culture-camp-2023/
LOCATION:Bare Park\, 5719 Dole Road\, Myrtle Creek\, OR\, 97457\, United States
CATEGORIES:Cultural Resources,Education Department
ATTACH;FMTTYPE=image/png:https://www.cowcreek-nsn.gov/wordpress/wp-content/uploads/2023/05/culture-camp-2023.png
ORGANIZER;CN="Cultural Resources Program":MAILTO:info-culturalresources@cowcreek-nsn.gov
END:VEVENT
BEGIN:VEVENT
DTSTART;TZID=America/Los_Angeles:20230801T110000
DTEND;TZID=America/Los_Angeles:20230803T150000
DTSTAMP:20260421T085658
CREATED:20230502T225451Z
LAST-MODIFIED:20230502T225451Z
UID:11498-1690887600-1691074800@www.cowcreek-nsn.gov
SUMMARY:EHYC Summer STEAM: Cow Creek Cultural Resources Program
DESCRIPTION:
URL:https://www.cowcreek-nsn.gov/event/ehyc-summer-steam-cow-creek-cultural-resources-program/
LOCATION:Tribal Community Center\, 825 NE Leon St.\, Myrtle Creek\, OR\, 97457\, United States
CATEGORIES:Cultural Resources,Education Department
ATTACH;FMTTYPE=image/png:https://www.cowcreek-nsn.gov/wordpress/wp-content/uploads/2023/05/expanding-horizons-summer-2023-8.125-10.125-in.png
ORGANIZER;CN="Cow Creek Education":MAILTO:info-education@cowcreek-nsn.gov
END:VEVENT
END:VCALENDAR