BEGIN:VCALENDAR
VERSION:2.0
PRODID:-//Cow Creek Band of Umpqua Tribe of Indians - ECPv6.10.1//NONSGML v1.0//EN
CALSCALE:GREGORIAN
METHOD:PUBLISH
X-WR-CALNAME:Cow Creek Band of Umpqua Tribe of Indians
X-ORIGINAL-URL:https://www.cowcreek-nsn.gov
X-WR-CALDESC:Events for Cow Creek Band of Umpqua Tribe of Indians
REFRESH-INTERVAL;VALUE=DURATION:PT1H
X-Robots-Tag:noindex
X-PUBLISHED-TTL:PT1H
BEGIN:VTIMEZONE
TZID:America/Los_Angeles
BEGIN:DAYLIGHT
TZOFFSETFROM:-0800
TZOFFSETTO:-0700
TZNAME:PDT
DTSTART:20220313T100000
END:DAYLIGHT
BEGIN:STANDARD
TZOFFSETFROM:-0700
TZOFFSETTO:-0800
TZNAME:PST
DTSTART:20221106T090000
END:STANDARD
END:VTIMEZONE
BEGIN:VEVENT
DTSTART;TZID=America/Los_Angeles:20220322T090000
DTEND;TZID=America/Los_Angeles:20220322T160000
DTSTAMP:20260420T165027
CREATED:20220211T201104Z
LAST-MODIFIED:20220215T181641Z
UID:8867-1647939600-1647964800@www.cowcreek-nsn.gov
SUMMARY:Spring Break Culture Days: Traditional Games
DESCRIPTION:As part of the 2022 Spring Break Culture Days\, the Cow Creek Cultural Resources Program will be teaching Tribal youths about traditional games on Tuesday\, March 22\, 2022. \nThe group will first meet at Seven Feathers Casino Resort and then gather together at South Umpqua Falls to learn traditional games\, such as shinny\, dice\, stick game and atlatl shooting — prizes can be won! \nThose attending are asked to meet in the south parking lot of Seven Feathers Casino Resort in Canyonville at 9AM on Tuesday\, March 22. Attendees will return around 4PM. Transportation options to and from Seven Feathers from Roseburg will be available (contact Cultural Resources at info-culturalresources@cowcreek-nsn.gov for more information on transportation). \nFood will also be available for those attending. \nIf you are planning to attend\, please RSVP by emailing info-culturalresources@cowcreek-nsn.gov by March 7. \nLearn more about the Cultural Resources Program: https://www.cowcreek-nsn.gov/wordpress/tribal/culture/
URL:https://www.cowcreek-nsn.gov/event/spring-break-culture-days-traditional-games/
LOCATION:Seven Feathers Casino Resort\, 146 Chief Miwaleta Ln\,\, Canyonville\, OR\, 97417\, United States
CATEGORIES:Cultural Resources
ORGANIZER;CN="Cultural Resources Program":MAILTO:info-culturalresources@cowcreek-nsn.gov
END:VEVENT
END:VCALENDAR