BEGIN:VCALENDAR
VERSION:2.0
PRODID:-//Cow Creek Band of Umpqua Tribe of Indians - ECPv6.10.1//NONSGML v1.0//EN
CALSCALE:GREGORIAN
METHOD:PUBLISH
X-WR-CALNAME:Cow Creek Band of Umpqua Tribe of Indians
X-ORIGINAL-URL:https://www.cowcreek-nsn.gov
X-WR-CALDESC:Events for Cow Creek Band of Umpqua Tribe of Indians
REFRESH-INTERVAL;VALUE=DURATION:PT1H
X-Robots-Tag:noindex
X-PUBLISHED-TTL:PT1H
BEGIN:VTIMEZONE
TZID:America/Los_Angeles
BEGIN:DAYLIGHT
TZOFFSETFROM:-0800
TZOFFSETTO:-0700
TZNAME:PDT
DTSTART:20220313T100000
END:DAYLIGHT
BEGIN:STANDARD
TZOFFSETFROM:-0700
TZOFFSETTO:-0800
TZNAME:PST
DTSTART:20221106T090000
END:STANDARD
END:VTIMEZONE
BEGIN:VEVENT
DTSTART;TZID=America/Los_Angeles:20220303T140000
DTEND;TZID=America/Los_Angeles:20220303T160000
DTSTAMP:20260420T122657
CREATED:20220107T072647Z
LAST-MODIFIED:20220211T194514Z
UID:8515-1646316000-1646323200@www.cowcreek-nsn.gov
SUMMARY:Takelma Language and Culture Lesson: Family Members and Elders
DESCRIPTION:Learn from the Cow Creek Language Team on Takelma vocabulary for family members\, and the Cultural Resources Team provides a lesson on honoring our elders. RSVP by emailing info-education@cowcreek-nsn.gov and we’ll send you a Zoom link. \nLearn more about Takelma: https://www.cowcreekeducation.com/takelma-language/ \nLearn more about the Cultural Resources program: https://www.cowcreek-nsn.gov/wordpress/tribal/culture/
URL:https://www.cowcreek-nsn.gov/event/takelma-language-and-culture-lesson-family-members-and-elders/
LOCATION:RSVP for Zoom Link
CATEGORIES:Cultural Resources,Education Department
ATTACH;FMTTYPE=image/png:https://www.cowcreek-nsn.gov/wordpress/wp-content/uploads/2022/01/january-11.png
ORGANIZER;CN="Cow Creek Education":MAILTO:info-education@cowcreek-nsn.gov
END:VEVENT
BEGIN:VEVENT
DTSTART;TZID=America/Los_Angeles:20220322T090000
DTEND;TZID=America/Los_Angeles:20220322T160000
DTSTAMP:20260420T122657
CREATED:20220211T201104Z
LAST-MODIFIED:20220215T181641Z
UID:8867-1647939600-1647964800@www.cowcreek-nsn.gov
SUMMARY:Spring Break Culture Days: Traditional Games
DESCRIPTION:As part of the 2022 Spring Break Culture Days\, the Cow Creek Cultural Resources Program will be teaching Tribal youths about traditional games on Tuesday\, March 22\, 2022. \nThe group will first meet at Seven Feathers Casino Resort and then gather together at South Umpqua Falls to learn traditional games\, such as shinny\, dice\, stick game and atlatl shooting — prizes can be won! \nThose attending are asked to meet in the south parking lot of Seven Feathers Casino Resort in Canyonville at 9AM on Tuesday\, March 22. Attendees will return around 4PM. Transportation options to and from Seven Feathers from Roseburg will be available (contact Cultural Resources at info-culturalresources@cowcreek-nsn.gov for more information on transportation). \nFood will also be available for those attending. \nIf you are planning to attend\, please RSVP by emailing info-culturalresources@cowcreek-nsn.gov by March 7. \nLearn more about the Cultural Resources Program: https://www.cowcreek-nsn.gov/wordpress/tribal/culture/
URL:https://www.cowcreek-nsn.gov/event/spring-break-culture-days-traditional-games/
LOCATION:Seven Feathers Casino Resort\, 146 Chief Miwaleta Ln\,\, Canyonville\, OR\, 97417\, United States
CATEGORIES:Cultural Resources
ORGANIZER;CN="Cultural Resources Program":MAILTO:info-culturalresources@cowcreek-nsn.gov
END:VEVENT
BEGIN:VEVENT
DTSTART;TZID=America/Los_Angeles:20220323T100000
DTEND;TZID=America/Los_Angeles:20220323T140000
DTSTAMP:20260420T122657
CREATED:20220211T200419Z
LAST-MODIFIED:20220215T181857Z
UID:8861-1648029600-1648044000@www.cowcreek-nsn.gov
SUMMARY:Spring Break Culture Days: Block Party
DESCRIPTION:As part of the 2022 Spring Break Culture Days\, the Cow Creek Cultural Resources Program will be hosting a Block Party on Wednesday\, March 23 from 10AM-2PM in the Taylor Street/Gentry Loop area of Wili Tribal Housing Neighborhood in Myrtle Creek (239 Taylor Street\, Myrtle Creek). \nMultiple departments from the Cow Creek Government Offices will be there to engage with Tribal members about education\, health\, programs and assistance available\, and will be spending time getting to know the community and younger Tribal members as well. \nFood will be on site. \nTribal youths are encouraged to attend to learn more about flint knapping as well as archeology. \nIf you are planning to attend\, please RSVP by emailing info-culturalresources@cowcreek-nsn.gov by March 7. \nLearn more about the Cultural Resources Program: https://www.cowcreek-nsn.gov/wordpress/tribal/culture/
URL:https://www.cowcreek-nsn.gov/event/spring-break-culture-days-block-party/
LOCATION:Wili Housing Neighborhood\, 239 Taylor Street\, Myrtle Creek\, OR\, 97457\, United States
CATEGORIES:Cultural Resources
ATTACH;FMTTYPE=image/png:https://www.cowcreek-nsn.gov/wordpress/wp-content/uploads/2022/02/untitled-facebook-post.png
ORGANIZER;CN="Cultural Resources Program":MAILTO:info-culturalresources@cowcreek-nsn.gov
END:VEVENT
BEGIN:VEVENT
DTSTART;TZID=America/Los_Angeles:20220324T080000
DTEND;TZID=America/Los_Angeles:20220324T170000
DTSTAMP:20260420T122657
CREATED:20220211T201323Z
LAST-MODIFIED:20220304T191753Z
UID:8869-1648108800-1648141200@www.cowcreek-nsn.gov
SUMMARY:Spring Break Culture Days: Arts & Language
DESCRIPTION:As part of the 2022 Spring Break Culture Days\, the Cow Creek Cultural Resources Program will be teaching Tribal youths about traditional and contemporary arts\, as well as the Cow Creek ancestral language\, Takelma\, on Thursday\, March 24 at the Tribal Government Offices in Roseburg. \nTribal youths planning to attend will be meeting in the Board Room of the Government Offices North Building. In the morning\, the group will learn about making clacker sticks. In the afternoon\, Cow Creek Takelma Language Learner and Tribal member Elizabeth Bryant will be engaging the group in learning to speak Takelma. \nFood will be provided for those attending. \nIf you are planning to attend\, please RSVP by emailing info-culturalresources@cowcreek-nsn.gov by March 7. \nLearn more about the Cultural Resources Program: https://www.cowcreek-nsn.gov/wordpress/tribal/culture/ \nLearn more about the Takelma language: https://www.cowcreekeducation.com/takelma-language/
URL:https://www.cowcreek-nsn.gov/event/spring-break-culture-days-tradition-culture/
LOCATION:OR
CATEGORIES:Cultural Resources
ATTACH;FMTTYPE=image/jpeg:https://www.cowcreek-nsn.gov/wordpress/wp-content/uploads/2021/10/colors-numbers-mailing-10.6.21-7.jpg
ORGANIZER;CN="Cultural Resources Program":MAILTO:info-culturalresources@cowcreek-nsn.gov
END:VEVENT
BEGIN:VEVENT
DTSTART;TZID=America/Los_Angeles:20220324T140000
DTEND;TZID=America/Los_Angeles:20220324T160000
DTSTAMP:20260420T122657
CREATED:20220107T073023Z
LAST-MODIFIED:20220304T191924Z
UID:8519-1648130400-1648137600@www.cowcreek-nsn.gov
SUMMARY:Takelma Language and Culture Lesson: Family Members and Elders Part 2
DESCRIPTION:The Cow Creek Language Team and Cultural Resources Teams will continue their previous lesson on family members and elders. RSVP by emailing info-education@cowcreek-nsn.gov and we’ll send you a Zoom link. \nLearn more about Takelma: https://www.cowcreekeducation.com/takelma-language/ \nLearn more about the Cultural Resources program: https://www.cowcreek-nsn.gov/wordpress/tribal/culture/
URL:https://www.cowcreek-nsn.gov/event/takelma-language-and-culture-lesson-family-members-and-elders-part-2/
LOCATION:RSVP for Zoom Link
CATEGORIES:Cultural Resources,Education Department
ATTACH;FMTTYPE=image/png:https://www.cowcreek-nsn.gov/wordpress/wp-content/uploads/2022/01/kwinax-circle-sticker.png
ORGANIZER;CN="Cow Creek Education":MAILTO:info-education@cowcreek-nsn.gov
END:VEVENT
END:VCALENDAR