BEGIN:VCALENDAR
VERSION:2.0
PRODID:-//Cow Creek Band of Umpqua Tribe of Indians - ECPv6.10.1//NONSGML v1.0//EN
CALSCALE:GREGORIAN
METHOD:PUBLISH
X-WR-CALNAME:Cow Creek Band of Umpqua Tribe of Indians
X-ORIGINAL-URL:https://www.cowcreek-nsn.gov
X-WR-CALDESC:Events for Cow Creek Band of Umpqua Tribe of Indians
REFRESH-INTERVAL;VALUE=DURATION:PT1H
X-Robots-Tag:noindex
X-PUBLISHED-TTL:PT1H
BEGIN:VTIMEZONE
TZID:America/Los_Angeles
BEGIN:DAYLIGHT
TZOFFSETFROM:-0800
TZOFFSETTO:-0700
TZNAME:PDT
DTSTART:20220313T100000
END:DAYLIGHT
BEGIN:STANDARD
TZOFFSETFROM:-0700
TZOFFSETTO:-0800
TZNAME:PST
DTSTART:20221106T090000
END:STANDARD
END:VTIMEZONE
BEGIN:VEVENT
DTSTART;TZID=America/Los_Angeles:20220203T060000
DTEND;TZID=America/Los_Angeles:20220203T080000
DTSTAMP:20260420T194134
CREATED:20220107T070729Z
LAST-MODIFIED:20220202T030644Z
UID:8510-1643868000-1643875200@www.cowcreek-nsn.gov
SUMMARY:Takelma Language and Culture Lesson: Colors and Necklace Making
DESCRIPTION:Learn the Takelma names of all the colors from the Cow Creek Language Team. Our Cultural Resources Team will make necklaces. RSVP by emailing info-education@cowcreek-nsn.gov and we’ll send you a Zoom link.
URL:https://www.cowcreek-nsn.gov/event/takelma-language-and-culture-lesson-colors-and-necklace-making/
LOCATION:RSVP for Zoom Link
CATEGORIES:Cultural Resources,Education Department
ATTACH;FMTTYPE=image/png:https://www.cowcreek-nsn.gov/wordpress/wp-content/uploads/2022/01/february-language-and-culture-classes.png
ORGANIZER;CN="Cow Creek Education":MAILTO:info-education@cowcreek-nsn.gov
END:VEVENT
BEGIN:VEVENT
DTSTART;TZID=America/Los_Angeles:20220217T140000
DTEND;TZID=America/Los_Angeles:20220217T160000
DTSTAMP:20260420T194134
CREATED:20220107T071051Z
LAST-MODIFIED:20220211T194404Z
UID:8512-1645106400-1645113600@www.cowcreek-nsn.gov
SUMMARY:Takelma Language and Culture Lesson: Colors Part 2
DESCRIPTION:The Cow Creek Language will continue their previous less on colors in the Takelma language. Cultural Resources will also present material TBD. RSVP by emailing info-education@cowcreek-nsn.gov and we’ll send you a Zoom link. \nLearn more about Takelma: https://www.cowcreekeducation.com/takelma-language/ \nLearn more about the Cultural Resources program: https://www.cowcreek-nsn.gov/wordpress/tribal/culture/
URL:https://www.cowcreek-nsn.gov/event/takelma-language-and-culture-lesson-colors-part-2/
LOCATION:RSVP for Zoom Link
CATEGORIES:Cultural Resources,Education Department
ATTACH;FMTTYPE=image/png:https://www.cowcreek-nsn.gov/wordpress/wp-content/uploads/2022/01/february-language-and-culture-classes.png
ORGANIZER;CN="Cow Creek Education":MAILTO:info-education@cowcreek-nsn.gov
END:VEVENT
BEGIN:VEVENT
DTSTART;TZID=America/Los_Angeles:20220219T020000
DTEND;TZID=America/Los_Angeles:20220219T060000
DTSTAMP:20260420T194134
CREATED:20211222T050857Z
LAST-MODIFIED:20211222T050857Z
UID:8433-1645236000-1645250400@www.cowcreek-nsn.gov
SUMMARY:Pine Nut Processing and Necklace Weaving Class
DESCRIPTION:Please RSVP before February 9th at info-culturalresources@cowcreek-nsn.gov. \nZoom link provided upon RSVP. Early RSVP required to receive materials in time for the event. Any RSVPs in excess of available in-person availability will instead receive Zoom link and mailed materials. \nIn-person availability dependent on current COVID-19 Restrictions. Limited space available for in-person attendance\, according to order of RSVP received. Food provided for those who attend.
URL:https://www.cowcreek-nsn.gov/event/pine-nut-processing-and-necklace-weaving-class/
LOCATION:Tribal Government Offices or Zoom Link\, 2371 NE Stephens St Suite 100\, Roseburg\, OR\, 97470\, United States
CATEGORIES:Cultural Resources
ATTACH;FMTTYPE=image/png:https://www.cowcreek-nsn.gov/wordpress/wp-content/uploads/2021/12/pine-nut-class.png
ORGANIZER;CN="Cultural Resources Program":MAILTO:info-culturalresources@cowcreek-nsn.gov
END:VEVENT
END:VCALENDAR